BEGIN:VCALENDAR
VERSION:2.0
PRODID:-//ChamberMaster//Event Calendar 2.0//EN
METHOD:PUBLISH
X-PUBLISHED-TTL:P3D
REFRESH-INTERVAL:P3D
CALSCALE:GREGORIAN
BEGIN:VEVENT
DTSTART:20250528T020000Z
DTEND:20250808T210000Z
X-MICROSOFT-CDO-ALLDAYEVENT:FALSE
SUMMARY:TexARTS Summer Camps
DESCRIPTION:TexARTS offers different types of camps to inspire kids of various ages. If your child is new to musical theatre\, our 1-week "Best of Camps" are a great way for them to have fun throughout the summer. We also offer specialized performance and technical theater camps for older kids. Come make TexARTS your Musical Theater home this Summer.
X-ALT-DESC;FMTTYPE=text/html:TexARTS offers different types of camps to inspire kids of various ages. If your child is new to musical theatre\, our 1-week &ldquo\;Best of Camps&rdquo\; are a great way for them to have fun throughout the summer. We also offer specialized performance and technical theater camps for older kids. Come make TexARTS your Musical Theater home this Summer.
LOCATION:1110 Ranch Rd\, 620 S\, Lakeway\, TX 78734
UID:e.2123.12816
SEQUENCE:3
DTSTAMP:20260421T175935Z
URL:https://laketravischamberfest.com/events/details/texarts-summer-camps-05-27-2025-12816
END:VEVENT

END:VCALENDAR
