BEGIN:VCALENDAR
VERSION:2.0
PRODID:-//ChamberMaster//Event Calendar 2.0//EN
METHOD:PUBLISH
X-PUBLISHED-TTL:P3D
REFRESH-INTERVAL:P3D
CALSCALE:GREGORIAN
BEGIN:VEVENT
DTSTART:20211204T200000Z
DTEND:20211206T000000Z
X-MICROSOFT-CDO-ALLDAYEVENT:FALSE
SUMMARY:TexARTS Presents The Nutcracker!
DESCRIPTION:One of the most beloved holiday traditions returns to the TexARTS stage. Come join a festive party and watch in wonder as the Sugar Plum Fairy hosts a dazzling array of dances! This year's edition features the classic ballet variations and brand new numbers choreographed by George Bohn\, Kelsey Oliver\, Cassie Eckerman\, and Mariana Alonzo. Starring the TexARTS Youth Ballet Company. Performances will be held at the TexARTS Kam & James Morris Theater on December 4 and 5 at 2:00pm and 6:00pm. Tickets: $17 For more information\, or to purchase tickets visit www.tex-arts.org or call 512-852-9079x101
X-ALT-DESC;FMTTYPE=text/html:One of the most beloved holiday traditions returns to the TexARTS stage. Come join a festive party and watch in wonder as the Sugar Plum Fairy hosts a dazzling array of dances! This year&rsquo\;s edition features the classic ballet variations and brand new numbers choreographed by George Bohn\, Kelsey Oliver\, Cassie Eckerman\, and Mariana Alonzo. Starring the TexARTS Youth Ballet Company. Performances will be held at the TexARTS Kam &amp\; James Morris Theater on December 4 and 5 at 2:00pm and 6:00pm. Tickets: $17 For more information\, or to purchase tickets visit www.tex-arts.org or call 512-852-9079x101
LOCATION:TexARTS Association 2300 Lohmans Spur Rd. STE. 610 Lakeway\, TX 78734
UID:e.2123.11054
SEQUENCE:3
DTSTAMP:20260424T060023Z
URL:https://laketravischamberfest.com/events/details/texarts-presents-the-nutcracker-11054
END:VEVENT

END:VCALENDAR
