BEGIN:VCALENDAR
VERSION:2.0
PRODID:-//ChamberMaster//Event Calendar 2.0//EN
METHOD:PUBLISH
X-PUBLISHED-TTL:P3D
REFRESH-INTERVAL:P3D
CALSCALE:GREGORIAN
BEGIN:VEVENT
DTSTART:20200718T000000Z
DTEND:20200809T190000Z
X-MICROSOFT-CDO-ALLDAYEVENT:FALSE
SUMMARY:TexARTS Presents: The Full Monty
DESCRIPTION:The Americanized musical stage version of the 1997 British film\,The Full Montyboasts a book by Terrence McNally and a score by David Yazbek and was nominated for nine Tony awards\, including Best Musical\, when it shimmied its way onto Broadway in 2000.
X-ALT-DESC;FMTTYPE=text/html:The Americanized musical stage version of the 1997 British film\,The Full Montyboasts a book by Terrence McNally and a score by David Yazbek and was nominated for nine Tony awards\, including Best Musical\, when it shimmied its way onto Broadway in 2000.
LOCATION:TexARTS Kam & James Morris Theatre 2300 Lohman's Spur Road STE 160 Austin\, TX 78734
UID:e.2123.10104
SEQUENCE:3
DTSTAMP:20260423T091016Z
URL:https://laketravischamberfest.com/events/details/texarts-presents-the-full-monty-10104
END:VEVENT

END:VCALENDAR
