BEGIN:VCALENDAR
VERSION:2.0
PRODID:-//ChamberMaster//Event Calendar 2.0//EN
METHOD:PUBLISH
X-PUBLISHED-TTL:P3D
REFRESH-INTERVAL:P3D
CALSCALE:GREGORIAN
BEGIN:VEVENT
DTSTART:20240121T013000Z
DTEND:20240219T013000Z
X-MICROSOFT-CDO-ALLDAYEVENT:FALSE
SUMMARY:TexARTS Presents: Million Dollar Quartet
DESCRIPTION:On December 4\, 1956\, an extraordinary twist of fate brought Johnny Cash\, Jerry Lee Lewis\, Carl Perkins\, and Elvis Presley together at Sun Records in Memphis for what would be one of the greatest jam sessions ever. MILLION DOLLAR QUARTET brings that legendary December night to life with an irresistible tale of broken promises\, secrets\, betrayal\, and celebrations. Relive the era with the smash-hit sensation featuring an incredible score of rock 'n' roll\, gospel\, R&B\, and country hits\, performed live onstage by world-class actors and musicians. Showcased hit songs include "Blue Suede Shoes\," "Fever\," "Walk the Line\," "Sixteen Tons\," "Who Do You Love?\," "Great Balls of Fire\," "Folsom Prison Blues\," "Whole Lotta Shakin' Goin' On\," "Hound Dog\," and more. *Only some dates are available for purchase\, more dates will come available in the coming days.
X-ALT-DESC;FMTTYPE=text/html:On December 4\, 1956\, an extraordinary twist of fate brought Johnny Cash\, Jerry Lee Lewis\, Carl Perkins\, and Elvis Presley together at Sun Records in Memphis for what would be one of the greatest jam sessions ever. MILLION DOLLAR QUARTET brings that legendary December night to life with an irresistible tale of broken promises\, secrets\, betrayal\, and celebrations. Relive the era with the smash-hit sensation featuring an incredible score of rock &lsquo\;n&rsquo\; roll\, gospel\, R&amp\;B\, and country hits\, performed live onstage by world-class actors and musicians. Showcased hit songs include &ldquo\;Blue Suede Shoes\,&rdquo\; &ldquo\;Fever\,&rdquo\; &ldquo\;Walk the Line\,&rdquo\; &ldquo\;Sixteen Tons\,&rdquo\; &ldquo\;Who Do You Love?\,&rdquo\; &ldquo\;Great Balls of Fire\,&rdquo\; &ldquo\;Folsom Prison Blues\,&rdquo\; &ldquo\;Whole Lotta Shakin&rsquo\; Goin&rsquo\; On\,&rdquo\; &ldquo\;Hound Dog\,&rdquo\; and more. *Only some dates are available for purchase\, more dates will come available in the coming days.
LOCATION:Lakeway Activity Center 105 Cross Creek Lakeway\, TX 78734
UID:e.2123.12356
SEQUENCE:3
DTSTAMP:20260422T174500Z
URL:https://laketravischamberfest.com/events/details/texarts-presents-million-dollar-quartet-12356
END:VEVENT

END:VCALENDAR
