BEGIN:VCALENDAR
VERSION:2.0
PRODID:-//ChamberMaster//Event Calendar 2.0//EN
METHOD:PUBLISH
X-PUBLISHED-TTL:P3D
REFRESH-INTERVAL:P3D
CALSCALE:GREGORIAN
BEGIN:VEVENT
DTSTART:20190427T190000Z
DTEND:20190505T230000Z
X-MICROSOFT-CDO-ALLDAYEVENT:FALSE
SUMMARY:TexARTS Presents Mary Poppins\, Jr.
DESCRIPTION:The TexARTS Academy's spring season continues with the Disney classic Mary Poppins\, Jr. A Musical based on the stories of P.L. Travers and the Walt Disney Film. A "Practically Perfect" woman arrives in London to help the Banks Family who are in desperate need for a nanny. With the help of the beloved chimney sweep Bert and a little bit of magic\, whimsical hilarity ensues. With hit songs like "A spoonful of sugar" and "Supercalifragilisticexpialidocious" kids and parents alike are sure to be tapping along to the tunes we all know and love. TexARTS is a nonprofit performing and visual arts organization that offers year-round classes in acting\, voice\, visual arts and dance as well as completely staged youth and professional productions. For more information about TexARTS\, visit our website tex-arts.org.
X-ALT-DESC;FMTTYPE=text/html:The TexARTS Academy&rsquo\;s spring season continues with the Disney classic Mary Poppins\, Jr. A Musical based on the stories of P.L. Travers and the Walt Disney Film. A &ldquo\;Practically Perfect&rdquo\; woman arrives in London to help the Banks Family who are in desperate need for a nanny. With the help of the beloved chimney sweep Bert and a little bit of magic\, whimsical hilarity ensues. With hit songs like &ldquo\;A spoonful of sugar&rdquo\; and &rdquo\;Supercalifragilisticexpialidocious&rdquo\; kids and parents alike are sure to be tapping along to the tunes we all know and love. TexARTS is a nonprofit performing and visual arts organization that offers year-round classes in acting\, voice\, visual arts and dance as well as completely staged youth and professional productions. For more information about TexARTS\, visit our website tex-arts.org.
LOCATION:2300 Lohmans Spur Lakeway\, TX 78734
UID:e.2123.9863
SEQUENCE:3
DTSTAMP:20260422T110135Z
URL:https://laketravischamberfest.com/events/details/texarts-presents-mary-poppins-jr-9863
END:VEVENT

END:VCALENDAR
