BEGIN:VCALENDAR
VERSION:2.0
PRODID:-//ChamberMaster//Event Calendar 2.0//EN
METHOD:PUBLISH
X-PUBLISHED-TTL:P3D
REFRESH-INTERVAL:P3D
CALSCALE:GREGORIAN
BEGIN:VEVENT
DTSTART:20191005T003000Z
DTEND:20191021T023000Z
X-MICROSOFT-CDO-ALLDAYEVENT:FALSE
SUMMARY:TexARTS Presents Little Shop of Horrors
DESCRIPTION:The TexARTS Professional Series presents Little Shop of Horrors\, October 4-20. The delicious Broadway sci-fi smash musical\, Little Shop Of Horrors has devoured the hearts of theatre goers for over 30 years. A meek floral assistant and his bloodthirsty\, man-eating plant take the stage this October. Making his directorial debut\, J. Quinton Johnson (Broadway's Hamilton\, Choir Boy) returns to Austin to be a part of the TexARTS Professional Series' fifth season. Choreography by Val Williams and Musical Direction by Lyn Koenning. Tickets can be purchased at tex-arts.org 512-852-9079 x101
X-ALT-DESC;FMTTYPE=text/html:The TexARTS Professional Series presents Little Shop of Horrors\, October 4-20. The delicious Broadway sci-fi smash musical\, Little Shop Of Horrors has devoured the hearts of theatre goers for over 30 years. A meek floral assistant and his bloodthirsty\, man-eating plant take the stage this October. Making his directorial debut\, J. Quinton Johnson (Broadway&#39\;s Hamilton\, Choir Boy) returns to Austin to be a part of the TexARTS Professional Series&#39\; fifth season. Choreography by Val Williams and Musical Direction by Lyn Koenning. Tickets can be purchased at tex-arts.org 512-852-9079 x101
LOCATION:2300 Lohman's Spur STE160 Lakeway\, TX 78734
UID:e.2123.9978
SEQUENCE:3
DTSTAMP:20260422T194929Z
URL:https://laketravischamberfest.com/events/details/texarts-presents-little-shop-of-horrors-9978
END:VEVENT

END:VCALENDAR
