BEGIN:VCALENDAR
VERSION:2.0
PRODID:-//ChamberMaster//Event Calendar 2.0//EN
METHOD:PUBLISH
X-PUBLISHED-TTL:P3D
REFRESH-INTERVAL:P3D
CALSCALE:GREGORIAN
BEGIN:VEVENT
DTSTART:20190406T190000Z
DTEND:20190414T230000Z
X-MICROSOFT-CDO-ALLDAYEVENT:FALSE
SUMMARY:TexARTS Presents James and the Giant Peach\, Jr.
DESCRIPTION:TexARTS Academy is proud to present Roald Dahl's James and the Giant Peach\, Jr. Based on one of Roald Dahl's most poignantly quirky stories\, James and the Giant Peach JR. is a brand new take on this "masterpeach" of a tale. Featuring a wickedly tuneful score and a witty and charming book\, this adventurous musical about courage and self-discovery is destined to be a classic. When James is sent by his conniving aunts to chop down their old fruit tree\, he discovers a magic potion that grows an amazing peach\, rolls into the ocean and launches a journey of a lifetime. A collection of singing insects befriend James and together they ride the giant piece of fruit across the sea. They face hunger\, sharks\, and plenty of disagreements along the way.
X-ALT-DESC;FMTTYPE=text/html:TexARTS Academy is proud to present Roald Dahl&#39\;s James and the Giant Peach\, Jr. Based on one of Roald Dahl&rsquo\;s most poignantly quirky stories\, James and the Giant Peach JR. is a brand new take on this &quot\;masterpeach&quot\; of a tale. Featuring a wickedly tuneful score and a witty and charming book\, this adventurous musical about courage and self-discovery is destined to be a classic. When James is sent by his conniving aunts to chop down their old fruit tree\, he discovers a magic potion that grows an amazing peach\, rolls into the ocean and launches a journey of a lifetime. A collection of singing insects befriend James and together they ride the giant piece of fruit across the sea. They face hunger\, sharks\, and plenty of disagreements along the way.
LOCATION:2300 Lohmans Spur Lakeway\, TX 78734
UID:e.2123.9862
SEQUENCE:3
DTSTAMP:20260422T110536Z
URL:https://laketravischamberfest.com/events/details/texarts-presents-james-and-the-giant-peach-jr-9862
END:VEVENT

END:VCALENDAR
