BEGIN:VCALENDAR
VERSION:2.0
PRODID:-//ChamberMaster//Event Calendar 2.0//EN
METHOD:PUBLISH
X-PUBLISHED-TTL:P3D
REFRESH-INTERVAL:P3D
CALSCALE:GREGORIAN
BEGIN:VEVENT
DTSTART:20211002T003000Z
DTEND:20211017T210000Z
X-MICROSOFT-CDO-ALLDAYEVENT:FALSE
SUMMARY:TexARTS Presents: Honky Tonk Laundry
DESCRIPTION:Honky Tonk Laundry TexARTS Professional Series Oct. 1   17\, 2021 Written by Roger Bean Music Arrangements by Jon Newton Directed by SARAH GAY Choreographed by NIGEL HALL Music Directed by LYN KOENNING Starring: KACEY KIRK & LEIGH SAUVAGEAU-KING Honky Tonk Laundry is a brand-new boot-scootin' musical filled with the kind of joyous spirit we so desperately need these days! Two women join forces to convert their good ol' laundromat into the town's hottest honky-tonk and exact a touch of revenge against those that done 'em wrong. Packed with country favorites made famous by Dolly Parton\, Patsy Cline\, Reba McEntire\, The Chicks\, Carrie Underwood and many more\, Honky Tonk Laundry will wash your cares away.
X-ALT-DESC;FMTTYPE=text/html:Honky Tonk Laundry TexARTS Professional Series Oct. 1 &ndash\; 17\, 2021 Written by Roger Bean Music Arrangements by Jon Newton Directed by SARAH GAY Choreographed by NIGEL HALL Music Directed by LYN KOENNING Starring: KACEY KIRK &amp\; LEIGH SAUVAGEAU-KING Honky Tonk Laundry is a brand-new boot-scootin&rsquo\; musical filled with the kind of joyous spirit we so desperately need these days! Two women join forces to convert their good ol&rsquo\; laundromat into the town&rsquo\;s hottest honky-tonk and exact a touch of revenge against those that done &lsquo\;em wrong. Packed with country favorites made famous by Dolly Parton\, Patsy Cline\, Reba McEntire\, The Chicks\, Carrie Underwood and many more\, Honky Tonk Laundry will wash your cares away.
LOCATION:TexARTS Association 2300 Lohman's Spur STE 160 Austin\, TX 78734
UID:e.2123.10924
SEQUENCE:3
DTSTAMP:20260424T065916Z
URL:https://laketravischamberfest.com/events/details/texarts-presents-honky-tonk-laundry-10924
END:VEVENT

END:VCALENDAR
