BEGIN:VCALENDAR
VERSION:2.0
PRODID:-//ChamberMaster//Event Calendar 2.0//EN
METHOD:PUBLISH
X-PUBLISHED-TTL:P3D
REFRESH-INTERVAL:P3D
CALSCALE:GREGORIAN
BEGIN:VEVENT
DTSTART:20211217T013000Z
DTEND:20211219T200000Z
X-MICROSOFT-CDO-ALLDAYEVENT:FALSE
SUMMARY:TexARTS Presents: A Cool Yule!
DESCRIPTION:"A Cool Yule\," the TexARTS holiday tradition\, returns for its ninth year! This swingin' cabaret will warm your heart with the songs of Andy Williams\, Elvis\, Frank Sinatra\, Sugarland\, Michael Buble\, Peggy Lee and more! This joyous evening of music features your favorite TexARTS stars from the TexARTS Professional Series. "A Cool Yule" will remind you how special the holidays - and TexARTS - really are. ??This event will take place at 7:30pm\, December 16 through 18 and at 2:00pm on December 19 \, at TexARTS Kam & James Morris Theatre. Ticket prices ranging from $46-$56 plus taxes and fees. For more information\, or to purchase tickets visit www.tex-arts.org or call 512-852-9079x101
X-ALT-DESC;FMTTYPE=text/html:&ldquo\;A Cool Yule\,&rdquo\; the TexARTS holiday tradition\, returns for its ninth year! This swingin&rsquo\; cabaret will warm your heart with the songs of Andy Williams\, Elvis\, Frank Sinatra\, Sugarland\, Michael Buble\, Peggy Lee and more! This joyous evening of music features your favorite TexARTS stars from the TexARTS Professional Series. &quot\;A Cool Yule&rdquo\; will remind you how special the holidays - and TexARTS - really are. ??This event will take place at 7:30pm\, December 16 through 18 and at 2:00pm on December 19 \, at TexARTS Kam &amp\; James Morris Theatre. Ticket prices ranging from $46-$56 plus taxes and fees. For more information\, or to purchase tickets visit www.tex-arts.org or call 512-852-9079x101
LOCATION:TexARTS Association 2300 Lohman's Spur Rd. STE 160 Lakeway\, TX 78734
UID:e.2123.11057
SEQUENCE:3
DTSTAMP:20260424T060228Z
URL:https://laketravischamberfest.com/events/details/texarts-presents-a-cool-yule-11057
END:VEVENT

END:VCALENDAR
