BEGIN:VCALENDAR
VERSION:2.0
PRODID:-//ChamberMaster//Event Calendar 2.0//EN
METHOD:PUBLISH
X-PUBLISHED-TTL:P3D
REFRESH-INTERVAL:P3D
CALSCALE:GREGORIAN
BEGIN:VEVENT
DTSTART:20210607T143000Z
DTEND:20210806T153000Z
X-MICROSOFT-CDO-ALLDAYEVENT:FALSE
SUMMARY:TexARTS Mini Camps!
DESCRIPTION:These one-hour camps are the perfect introduction to theatre arts and creative movement for the youngest of performers. We are offering three mini camps this summer that include the titles: "Sing and Play with Peppa Pig!"\, "Pinkalicious & Peterrific Perform!"\, and "Daniel Tiger Dances!" Ages 2   4.
X-ALT-DESC;FMTTYPE=text/html:These one-hour camps are the perfect introduction to theatre arts and creative movement for the youngest of performers. We are offering three mini camps this summer that include the titles: &quot\;Sing and Play with Peppa Pig!&quot\;\, &quot\;Pinkalicious &amp\; Peterrific Perform!&quot\;\, and &quot\;Daniel Tiger Dances!&quot\; Ages 2 &ndash\; 4.
LOCATION:TexARTS Association 2300 Lohman's Spur Rd STE 160 Lakeway\, TX 78734
UID:e.2123.10359
SEQUENCE:3
DTSTAMP:20260424T012702Z
URL:https://laketravischamberfest.com/events/details/texarts-mini-camps-10359
END:VEVENT

END:VCALENDAR
