BEGIN:VCALENDAR
VERSION:2.0
PRODID:-//ChamberMaster//Event Calendar 2.0//EN
METHOD:PUBLISH
X-PUBLISHED-TTL:P3D
REFRESH-INTERVAL:P3D
CALSCALE:GREGORIAN
BEGIN:VEVENT
DTSTART:20210823T200000Z
DTEND:20210828T020000Z
X-MICROSOFT-CDO-ALLDAYEVENT:FALSE
SUMMARY:TexARTS Fall Classes: Welcome Week!
DESCRIPTION:TexARTS Association invites you to Welcome Week! August 23rd-27th\, all students are welcome to come and try a class for free! We offer weekly technique classes in acting\, voice\, ballet\, tap\, jazz\, hip hop\, and more for ages 3-17. To sign up for Welcome Week\, please follow the instructions below. Create an Account Select the class that you're interested in Select the student that will be taking class Click the "Request a Trial" button at the top right. That's it! We'll see you for class on the week of August 23rd-27th. If your student likes class and wants to enroll after their trial\, just give us a call or an email and we'll set it up for you. You can also call or email our office if you have any questions or would like help with recommendations for your student! Email: academy@tex-arts.org Tele: (512)-852-9079x104
X-ALT-DESC;FMTTYPE=text/html:TexARTS Association invites you to Welcome Week! August 23rd-27th\, all students are welcome to come and try a class for free! We offer weekly technique classes in acting\, voice\, ballet\, tap\, jazz\, hip hop\, and more for ages 3-17. To sign up for Welcome Week\, please follow the instructions below. Create an Account Select the class that you&#39\;re interested in Select the student that will be taking class Click the &quot\;Request a Trial&quot\; button at the top right. That&#39\;s it! We&#39\;ll see you for class on the week of August 23rd-27th. If your student likes class and wants to enroll after their trial\, just give us a call or an email and we&#39\;ll set it up for you. You can also call or email our office if you have any questions or would like help with recommendations for your student! Email: academy@tex-arts.org Tele: (512)-852-9079x104
LOCATION:TexARTS Association 2300 Lohman's Spur Ste 160 Austin\, TX 78734
UID:e.2123.10917
SEQUENCE:3
DTSTAMP:20260424T041314Z
URL:https://laketravischamberfest.com/events/details/texarts-fall-classes-welcome-week-10917
END:VEVENT

END:VCALENDAR
