BEGIN:VCALENDAR
VERSION:2.0
PRODID:-//ChamberMaster//Event Calendar 2.0//EN
METHOD:PUBLISH
X-PUBLISHED-TTL:P3D
REFRESH-INTERVAL:P3D
CALSCALE:GREGORIAN
BEGIN:VEVENT
DTSTART:20210531T140000Z
DTEND:20210813T220000Z
X-MICROSOFT-CDO-ALLDAYEVENT:FALSE
SUMMARY:TexARTS "Best Of" Musical Theatre Camps
DESCRIPTION:Sing\, dance\, act\, and create in our popular "Best of" musical theatre camps! Each week you'll have fun learning your favorite songs\, scenes\, and dances from such Broadway blockbusters such as Hamilton\, Frozen\, The Greatest Showman\, and many more. Each camp is under the guidance of experienced professionals and will focus on basic vocal technique\, acting skills\, dance and musical theatre. New sessions begin weekly and run from the end of May through August. For ages 5   14. To enroll and learn more\, visit tex-arts.org or call 512-852-9079.
X-ALT-DESC;FMTTYPE=text/html:Sing\, dance\, act\, and create in our popular &quot\;Best of&quot\; musical theatre camps! Each week you&#39\;ll have fun learning your favorite songs\, scenes\, and dances from such Broadway blockbusters such as Hamilton\, Frozen\, The Greatest Showman\, and many more. Each camp is under the guidance of experienced professionals and will focus on basic vocal technique\, acting skills\, dance and musical theatre. New sessions begin weekly and run from the end of May through August. For ages 5 &ndash\; 14. To enroll and learn more\, visit tex-arts.org or call 512-852-9079.
LOCATION:TexARTS 2300 Lohman's Spur Ste 160 Austin\, TX 78734
UID:e.2123.10351
SEQUENCE:3
DTSTAMP:20260424T000146Z
URL:https://laketravischamberfest.com/events/details/texarts-best-of-musical-theatre-camps-10351
END:VEVENT

END:VCALENDAR
