BEGIN:VCALENDAR
VERSION:2.0
PRODID:-//ChamberMaster//Event Calendar 2.0//EN
METHOD:PUBLISH
X-PUBLISHED-TTL:P3D
REFRESH-INTERVAL:P3D
CALSCALE:GREGORIAN
BEGIN:VEVENT
DTSTART;VALUE=DATE:20230109
DTEND;VALUE=DATE:20230402
TRANSP:TRANSPARENT
X-MICROSOFT-CDO-ALLDAYEVENT:TRUE
SUMMARY:TexARTS Academy Spring Enrollment!
DESCRIPTION:The TexARTS Academy is now enrolling weekly technique classes for Spring 2023 in Ballet\, Jazz\, Tap\, Contemporary\, Acting\, Improv\, TV and Film\, and Voice. Click the link below to check out of class schedule! https://app.iclasspro.com/portal/texarts/booking
X-ALT-DESC;FMTTYPE=text/html:The TexARTS Academy is now enrolling weekly technique classes for Spring 2023 in Ballet\, Jazz\, Tap\, Contemporary\, Acting\, Improv\, TV and Film\, and Voice. Click the link below to check out of class schedule! https://app.iclasspro.com/portal/texarts/booking
LOCATION:TexARTS Association
UID:e.2123.11712
SEQUENCE:3
DTSTAMP:20260423T070352Z
URL:https://laketravischamberfest.com/events/details/texarts-academy-spring-enrollment-11712
END:VEVENT

END:VCALENDAR
