BEGIN:VCALENDAR
VERSION:2.0
PRODID:-//ChamberMaster//Event Calendar 2.0//EN
METHOD:PUBLISH
X-PUBLISHED-TTL:P3D
REFRESH-INTERVAL:P3D
CALSCALE:GREGORIAN
BEGIN:VEVENT
DTSTART:20200425T190000Z
DTEND:20200503T210000Z
X-MICROSOFT-CDO-ALLDAYEVENT:FALSE
SUMMARY:TexARTS Academy Presents: Disney's Aladdin Jr.
DESCRIPTION:Disney's Aladdin JR. is based on the 1992 Academy Award -winning film and the 2014 hit Broadway show about the "diamond in the rough" street rat who learns that his true worth lies deep within.
X-ALT-DESC;FMTTYPE=text/html:Disney&rsquo\;s Aladdin JR. is based on the 1992 Academy Award&reg\;-winning film and the 2014 hit Broadway show about the &ldquo\;diamond in the rough&rdquo\; street rat who learns that his true worth lies deep within.
LOCATION:2300 Lohman's Spur Road STE 160 Austin\, TX 78734
UID:e.2123.10102
SEQUENCE:3
DTSTAMP:20260423T044430Z
URL:https://laketravischamberfest.com/events/details/texarts-academy-presents-disney-s-aladdin-jr-10102
END:VEVENT

END:VCALENDAR
