BEGIN:VCALENDAR
VERSION:2.0
PRODID:-//ChamberMaster//Event Calendar 2.0//EN
METHOD:PUBLISH
X-PUBLISHED-TTL:P3D
REFRESH-INTERVAL:P3D
CALSCALE:GREGORIAN
BEGIN:VEVENT
DTSTART:20180806T153000Z
DTEND:20180806T163000Z
X-MICROSOFT-CDO-ALLDAYEVENT:FALSE
SUMMARY:Teddy Bear Clinic at Preschool Story Time
DESCRIPTION:Teddy Bear Clinic at Preschool Story Time - Monday\, August 6th at 10:30am - Bring along your favorite stuffed animal or doll for a special check-up at the Teddy Bear Clinic. Baylor Scott & White Medical Center of Lakeway will promote health and wellness with a story time\, crafts\, and a quick check-up for your stuffed animal!
X-ALT-DESC;FMTTYPE=text/html:Teddy Bear Clinic at Preschool Story Time - Monday\, August 6th at 10:30am - Bring along your favorite stuffed animal or doll for a special check-up at the Teddy Bear Clinic. Baylor Scott &amp\; White Medical Center of Lakeway will promote health and wellness with a story time\, crafts\, and a quick check-up for your stuffed animal!
LOCATION:Lake Travis Community Library 1938 Lohmans Crossing Austin\, Texas 78734
UID:e.2123.9686
SEQUENCE:3
DTSTAMP:20260421T222324Z
URL:https://laketravischamberfest.com/events/details/teddy-bear-clinic-at-preschool-story-time-9686
END:VEVENT

END:VCALENDAR
