BEGIN:VCALENDAR
VERSION:2.0
PRODID:-//ChamberMaster//Event Calendar 2.0//EN
METHOD:PUBLISH
X-PUBLISHED-TTL:P3D
REFRESH-INTERVAL:P3D
CALSCALE:GREGORIAN
BEGIN:VEVENT
DTSTART:20200401T160000Z
DTEND:20200401T180000Z
X-MICROSOFT-CDO-ALLDAYEVENT:FALSE
SUMMARY:Taste of Southern France
DESCRIPTION:Learn delicious\, plant-based versions of these classic French dishes! Everyone will sit down to eat together and take home recipes to try later! Menu: Soupe au Pistou (Proven al Vegetable Soup with Tomato-Basil Pistou) P tite Salade Ni oise (Traditional Salad from Nice\, France) Dark Chocolate-Almond Butter Truffles All ingredients are gluten-free\, dairy-free\, and soy-free so everyone can enjoy! Spanish Marcona Almonds and Olives will also be served. Water will be served but wine will be available for an additional fee. All sales of classes are final and are non-refundable and cannot be used for future dates. No physical tickets will be mailed\, instead\, a receipt will be emailed after you purchase your ticket\, please bring this with you to the class.
X-ALT-DESC;FMTTYPE=text/html:Learn delicious\, plant-based versions of these classic French dishes! Everyone will sit down to eat together and take home recipes to try later! Menu: Soupe au Pistou (Proven&ccedil\;al Vegetable Soup with Tomato-Basil Pistou) P&eacute\;tite Salade Ni&ccedil\;oise (Traditional Salad from Nice\, France) Dark Chocolate-Almond Butter Truffles All ingredients are gluten-free\, dairy-free\, and soy-free so everyone can enjoy! Spanish Marcona Almonds and Olives will also be served. Water will be served but wine will be available for an additional fee. All sales of classes are final and are non-refundable and cannot be used for future dates. No physical tickets will be mailed\, instead\, a receipt will be emailed after you purchase your ticket\, please bring this with you to the class.
LOCATION:Con' Olio Oils & Vinegars - Bee Cave 3500 Ranch Road 620 S\, Ste F-400 Bee Cave\, Texas 78738
UID:e.2123.10101
SEQUENCE:3
DTSTAMP:20260423T043117Z
URL:https://laketravischamberfest.com/events/details/taste-of-southern-france-10101
END:VEVENT

END:VCALENDAR
