BEGIN:VCALENDAR
VERSION:2.0
PRODID:-//ChamberMaster//Event Calendar 2.0//EN
METHOD:PUBLISH
X-PUBLISHED-TTL:P3D
REFRESH-INTERVAL:P3D
CALSCALE:GREGORIAN
BEGIN:VEVENT
DTSTART:20190725T233000Z
DTEND:20190726T013000Z
X-MICROSOFT-CDO-ALLDAYEVENT:FALSE
SUMMARY:Taste of Italy with Antonelli's Cheese Shop
DESCRIPTION:To celebrate our recent relocation of our Bee Cave shop\, we're teaming up with the one and only Kendall Antonelli of Antonelli's Cheese Shop\, the award-winning and internationally-acclaimed Hyde Park cheese shop. Guests will start with an Olive Oil 101 flight of three Italian varietals\, followed by a guided tasting of the Seven Styles of Cheese\, each paired with our balsamic vinegars. As usual in our classes\, artisan bread\, Spanish marcona almonds and olives will be served. And wine is available for purchase.
X-ALT-DESC;FMTTYPE=text/html:To celebrate our recent relocation of our Bee Cave shop\, we&#39\;re teaming up with the one and only Kendall Antonelli of Antonelli&#39\;s Cheese Shop\, the award-winning and internationally-acclaimed Hyde Park cheese shop. Guests will start with an Olive Oil 101 flight of three Italian varietals\, followed by a guided tasting of the Seven Styles of Cheese\, each paired with our balsamic vinegars. As usual in our classes\, artisan bread\, Spanish marcona almonds and olives will be served. And wine is available for purchase.
LOCATION:3500 Ranch Road 620 S\, Ste F-400 Bee Cave\, Texas 78738
UID:e.2123.9945
SEQUENCE:3
DTSTAMP:20260422T164931Z
URL:https://laketravischamberfest.com/events/details/taste-of-italy-with-antonelli-s-cheese-shop-9945
END:VEVENT

END:VCALENDAR
