BEGIN:VCALENDAR
VERSION:2.0
PRODID:-//ChamberMaster//Event Calendar 2.0//EN
METHOD:PUBLISH
X-PUBLISHED-TTL:P3D
REFRESH-INTERVAL:P3D
CALSCALE:GREGORIAN
BEGIN:VEVENT
DTSTART:20230531T223000Z
DTEND:20230601T000000Z
X-MICROSOFT-CDO-ALLDAYEVENT:FALSE
SUMMARY:TASTE LAKE TRAVIS - 1st BITES at Artemis Mediterranean Grill
DESCRIPTION:Lake Travis Chamber of Commerce invites you to Taste Lake Travis "1st\n\nBites" @ Artemis Mediterranean Grill on Wednesday May 31st\, from\n\n5:30-7:00 PM. Come by and meet the Taste Lake Travis team and raise a\n\ncup with us as we kick off the first "Bites" event on the lead up to\n\nthe main event - Taste Lake Travis on Sept. 16th 2023.\n\nIf you are interested in supporting Taste Lake Travis as a food or\n\nbeverage maker\, volunteer or sponsor\, we want to hear from you!
X-ALT-DESC;FMTTYPE=text/html:<span style="caret-color: rgb(34\, 34\, 34)\; color: rgb(34\, 34\, 34)\; font-family: Arial\, Helvetica\, sans-serif\; font-size: small\;">Lake Travis Chamber of Commerce invites you to Taste Lake Travis &quot\;1st</span><br style="caret-color: rgb(34\, 34\, 34)\; color: rgb(34\, 34\, 34)\; font-family: Arial\, Helvetica\, sans-serif\;" />\n<span style="caret-color: rgb(34\, 34\, 34)\; color: rgb(34\, 34\, 34)\; font-family: Arial\, Helvetica\, sans-serif\; font-size: small\;">Bites&quot\; @ </span>Artemis Mediterranean Grill<span style="caret-color: rgb(34\, 34\, 34)\; color: rgb(34\, 34\, 34)\; font-family: Arial\, Helvetica\, sans-serif\; font-size: small\;"> on Wednesday May 31st\, from</span><br style="caret-color: rgb(34\, 34\, 34)\; color: rgb(34\, 34\, 34)\; font-family: Arial\, Helvetica\, sans-serif\;" />\n<span style="caret-color: rgb(34\, 34\, 34)\; color: rgb(34\, 34\, 34)\; font-family: Arial\, Helvetica\, sans-serif\; font-size: small\;">5:30-7:00 PM. Come by and meet the Taste Lake Travis team and raise a</span><br style="caret-color: rgb(34\, 34\, 34)\; color: rgb(34\, 34\, 34)\; font-family: Arial\, Helvetica\, sans-serif\;" />\n<span style="caret-color: rgb(34\, 34\, 34)\; color: rgb(34\, 34\, 34)\; font-family: Arial\, Helvetica\, sans-serif\; font-size: small\;">cup with us as we kick off the first &quot\;Bites&quot\; event on the lead up to</span><br style="caret-color: rgb(34\, 34\, 34)\; color: rgb(34\, 34\, 34)\; font-family: Arial\, Helvetica\, sans-serif\;" />\n<span style="caret-color: rgb(34\, 34\, 34)\; color: rgb(34\, 34\, 34)\; font-family: Arial\, Helvetica\, sans-serif\; font-size: small\;">the main event - Taste Lake Travis on Sept. 16th 2023.</span><br style="caret-color: rgb(34\, 34\, 34)\; color: rgb(34\, 34\, 34)\; font-family: Arial\, Helvetica\, sans-serif\;" />\n<span style="caret-color: rgb(34\, 34\, 34)\; color: rgb(34\, 34\, 34)\; font-family: Arial\, Helvetica\, sans-serif\; font-size: small\;">If you are interested in supporting Taste Lake Travis as a food or</span><br style="caret-color: rgb(34\, 34\, 34)\; color: rgb(34\, 34\, 34)\; font-family: Arial\, Helvetica\, sans-serif\;" />\n<span style="caret-color: rgb(34\, 34\, 34)\; color: rgb(34\, 34\, 34)\; font-family: Arial\, Helvetica\, sans-serif\; font-size: small\;">beverage maker\, volunteer or sponsor\, we want to hear from you!</span>
LOCATION:Artemis Mediterranean Grill Bee Cave (512) 520-5224 4025 RM 620 S Bee Cave\, TX 78738
UID:e.2123.11751
SEQUENCE:3
DTSTAMP:20260423T053723Z
URL:https://laketravischamberfest.com/events/details/taste-lake-travis-1st-bites-at-artemis-mediterranean-grill-11751
END:VEVENT

END:VCALENDAR
