BEGIN:VCALENDAR
VERSION:2.0
PRODID:-//ChamberMaster//Event Calendar 2.0//EN
METHOD:PUBLISH
X-PUBLISHED-TTL:P3D
REFRESH-INTERVAL:P3D
CALSCALE:GREGORIAN
BEGIN:VEVENT
DTSTART:20180820T214500Z
DTEND:20180820T224500Z
X-MICROSOFT-CDO-ALLDAYEVENT:FALSE
SUMMARY:$tart-Up! Kid’s Club Information Session
DESCRIPTION:$tart-Up! Kid's Club Information Session - Monday\, August 20th at 4:45pm - In September\, the $tart-Up! Kid's Club will begin meeting at the library every Thursday at 4:45pm. This club gives young people the opportunity to create\, develop\, and execute their own entrepreneurial ideas. Parents and children are invited to learn more at this information session.
X-ALT-DESC;FMTTYPE=text/html:$tart-Up! Kid&rsquo\;s Club Information Session - Monday\, August 20th at 4:45pm - In September\, the $tart-Up! Kid&rsquo\;s Club will begin meeting at the library every Thursday at 4:45pm. This club gives young people the opportunity to create\, develop\, and execute their own entrepreneurial ideas. Parents and children are invited to learn more at this information session.
LOCATION:Lake Travis Community Library 1938 Lohmans Crossing Austin\, TX 78734
UID:e.2123.9687
SEQUENCE:3
DTSTAMP:20260421T222230Z
URL:https://laketravischamberfest.com/events/details/tart-up-kid-s-club-information-session-9687
END:VEVENT

END:VCALENDAR
