BEGIN:VCALENDAR
VERSION:2.0
PRODID:-//ChamberMaster//Event Calendar 2.0//EN
METHOD:PUBLISH
X-PUBLISHED-TTL:P3D
REFRESH-INTERVAL:P3D
CALSCALE:GREGORIAN
BEGIN:VEVENT
DTSTART:20180118T230000Z
DTEND:20180119T000000Z
X-MICROSOFT-CDO-ALLDAYEVENT:FALSE
SUMMARY:$tart-Up! Kid's Club Info Session
DESCRIPTION:$tart-Up! Kid's Club Information Session - Thursday\, January 18th at 5pm - In February\, the $tart-Up! Kid's Club will begin meeting at the library twice a month. $tart-Up! Kid's Club gives young people the opportunity to create\, develop\, and execute their own entrepreneurial ideas. Meet mentors and learn about different careers\, ideas\, concepts\, and perspectives. Parents and children are invited to learn more on Thursday\, January 18th at 5pm
X-ALT-DESC;FMTTYPE=text/html:$tart-Up! Kid&rsquo\;s Club Information Session - Thursday\, January 18th at 5pm - In February\, the $tart-Up! Kid&rsquo\;s Club will begin meeting at the library twice a month. $tart-Up! Kid&rsquo\;s Club gives young people the opportunity to create\, develop\, and execute their own entrepreneurial ideas. Meet mentors and learn about different careers\, ideas\, concepts\, and perspectives. Parents and children are invited to learn more on Thursday\, January 18th at 5pm
LOCATION:Lake Travis Community Library 1938 Lohmans Crossing Austin\, Texas 78734
UID:e.2123.9529
SEQUENCE:3
DTSTAMP:20260421T131503Z
URL:https://laketravischamberfest.com/events/details/tart-up-kid-s-club-info-session-9529
END:VEVENT

END:VCALENDAR
