BEGIN:VCALENDAR
VERSION:2.0
PRODID:-//ChamberMaster//Event Calendar 2.0//EN
METHOD:PUBLISH
X-PUBLISHED-TTL:P3D
REFRESH-INTERVAL:P3D
CALSCALE:GREGORIAN
BEGIN:VEVENT
DTSTART:20180319T153000Z
DTEND:20180319T163000Z
X-MICROSOFT-CDO-ALLDAYEVENT:FALSE
SUMMARY:Take 10 CPR
DESCRIPTION:Take 10 CPR - Monday\, March 19th at 10:30am - Join VIK Complete Care for a three-step\, ten minute\, hands-on training to learn life-saving techniques for those in cardiac arrest.
X-ALT-DESC;FMTTYPE=text/html:Take 10 CPR - Monday\, March 19th at 10:30am - Join VIK Complete Care for a three-step\, ten minute\, hands-on training to learn life-saving techniques for those in cardiac arrest.
LOCATION:Lake Travis Community Library 1938 Lohmans Crossing Austin\, Texas 78734
UID:e.2123.9572
SEQUENCE:3
DTSTAMP:20260421T144223Z
URL:https://laketravischamberfest.com/events/details/take-10-cpr-9572
END:VEVENT

END:VCALENDAR
