BEGIN:VCALENDAR
VERSION:2.0
PRODID:-//ChamberMaster//Event Calendar 2.0//EN
METHOD:PUBLISH
X-PUBLISHED-TTL:P3D
REFRESH-INTERVAL:P3D
CALSCALE:GREGORIAN
BEGIN:VEVENT
DTSTART:20180503T230000Z
DTEND:20180504T010000Z
X-MICROSOFT-CDO-ALLDAYEVENT:FALSE
SUMMARY:Swing Into Spring – Wexel Art Exhibition ft. Chad Wadsworth
DESCRIPTION:You're invited to a one night only art show at Wexel Art featuring the work of Austin photographer\, Chad Wadsworth. Join us for a night of music\, drinks\, and appetizers while enjoying beautiful photography\, available for purchase.
X-ALT-DESC;FMTTYPE=text/html:You&#39\;re invited to a one night only art show at Wexel Art featuring the work of Austin photographer\, Chad Wadsworth. Join us for a night of music\, drinks\, and appetizers while enjoying beautiful photography\, available for purchase.
LOCATION:Wexel Art Displays 11715 Bee Caves Rd. Ste. 300 Austin\, Texas 78738
UID:e.2123.9626
SEQUENCE:3
DTSTAMP:20260421T192638Z
URL:https://laketravischamberfest.com/events/details/swing-into-spring-wexel-art-exhibition-ft-chad-wadsworth-9626
END:VEVENT

END:VCALENDAR
