BEGIN:VCALENDAR
VERSION:2.0
PRODID:-//ChamberMaster//Event Calendar 2.0//EN
METHOD:PUBLISH
X-PUBLISHED-TTL:P3D
REFRESH-INTERVAL:P3D
CALSCALE:GREGORIAN
BEGIN:VEVENT
DTSTART:20210723T180000Z
DTEND:20210723T200000Z
X-MICROSOFT-CDO-ALLDAYEVENT:FALSE
SUMMARY:Sweet Treats with Frost Bank
DESCRIPTION:Frost invites families to come to an Austin financial center for a cold and sweet summer treat. Frost will host a local provider offering guests a variety of frozen goodies. The summer treats are an annual tradition at Frost\, where dedication to the community has been part of the culture since the company began in 1868.
X-ALT-DESC;FMTTYPE=text/html:Frost invites families to come to an Austin financial center for a cold and sweet summer treat. Frost will host a local provider offering guests a variety of frozen goodies. The summer treats are an annual tradition at Frost\, where dedication to the community has been part of the culture since the company began in 1868.
LOCATION:Lake Travis Financial Center 12532 FM 2244 Road Bee Cave\, TX 787382
UID:e.2123.10910
SEQUENCE:3
DTSTAMP:20260424T025312Z
URL:https://laketravischamberfest.com/events/details/sweet-treats-with-frost-bank-10910
END:VEVENT

END:VCALENDAR
