BEGIN:VCALENDAR
VERSION:2.0
PRODID:-//ChamberMaster//Event Calendar 2.0//EN
METHOD:PUBLISH
X-PUBLISHED-TTL:P3D
REFRESH-INTERVAL:P3D
CALSCALE:GREGORIAN
BEGIN:VEVENT
DTSTART:20191029T160000Z
DTEND:20191029T180000Z
X-MICROSOFT-CDO-ALLDAYEVENT:FALSE
SUMMARY:Sushi Party: Bee Cave
DESCRIPTION:Learn how to make perfect sushi rice with flavorful vinegars and no sugar! You'll get to roll your own rainbow rolls with fresh vegetables\, herbs\, and homemade pickles\, make avocado nigiri\, and learn how to plate and garnish sushi rolls for a beautiful presentation! Chef Rachel Zierzow\, natural foods chef and holistic health coach\, will introduce you to a vegan sushi party complete with rainbow rolls and creamy wasabi sauce. The world is waiting and it's delicious! Spanish Marcona Almonds and Olives will also be served. Water will be served but wine will be available for an additional fee. All sales of classes are final and are non refundable and cannot be used for future dates. No physical tickets will be mailed\, instead a receipt will be emailed after you purchase your ticket\, please bring this with you to the class.
X-ALT-DESC;FMTTYPE=text/html:Learn how to make perfect sushi rice with flavorful vinegars and no sugar! You&rsquo\;ll get to roll your own rainbow rolls with fresh vegetables\, herbs\, and homemade pickles\, make avocado nigiri\, and learn how to plate and garnish sushi rolls for a beautiful presentation! Chef Rachel Zierzow\, natural foods chef and holistic health coach\, will introduce you to a vegan sushi party complete with rainbow rolls and creamy wasabi sauce. The world is waiting and it&rsquo\;s delicious! Spanish Marcona Almonds and Olives will also be served. Water will be served but wine will be available for an additional fee. All sales of classes are final and are non refundable and cannot be used for future dates. No physical tickets will be mailed\, instead a receipt will be emailed after you purchase your ticket\, please bring this with you to the class.
LOCATION:Con' Olio Oils & Vinegars 3500 FM 620 S Ste F400 Bee Cave 78738
UID:e.2123.10014
SEQUENCE:3
DTSTAMP:20260422T194622Z
URL:https://laketravischamberfest.com/events/details/sushi-party-bee-cave-10014
END:VEVENT

END:VCALENDAR
