BEGIN:VCALENDAR
VERSION:2.0
PRODID:-//ChamberMaster//Event Calendar 2.0//EN
METHOD:PUBLISH
X-PUBLISHED-TTL:P3D
REFRESH-INTERVAL:P3D
CALSCALE:GREGORIAN
BEGIN:VEVENT
DTSTART:20200304T170000Z
DTEND:20200304T190000Z
X-MICROSOFT-CDO-ALLDAYEVENT:FALSE
SUMMARY:Sushi Party
DESCRIPTION:Chef Rachel Zierzow\, natural foods chef and holistic health coach\, will introduce you a vegan sushi party! Complete with rainbow rolls and creamy wasabi sauce. The world is waiting and it's delicious! Come explore it with Con' Olio. Learn how to make perfect sushi rice with flavorful vinegars and no sugar! You'll get to roll your own rainbow rolls with fresh vegetables\, herbs\, and homemade pickles\, make avocado nigiri\, and learn how to plate and garnish sushi rolls for a beautiful presentation!
X-ALT-DESC;FMTTYPE=text/html:Chef Rachel Zierzow\, natural foods chef and holistic health coach\, will introduce you a vegan sushi party! Complete with rainbow rolls and creamy wasabi sauce. The world is waiting and it&rsquo\;s delicious! Come explore it with Con&rsquo\; Olio. Learn how to&nbsp\;make perfect sushi rice with flavorful vinegars and no sugar! You&rsquo\;ll get to roll your own rainbow rolls with fresh vegetables\, herbs\, and homemade pickles\, make avocado nigiri\, and learn how to plate and garnish sushi rolls for a beautiful presentation!
LOCATION:3500 Ranch Road 620 S\, Ste F-400 Bee Cave\, Texas 78738
UID:e.2123.10089
SEQUENCE:3
DTSTAMP:20260423T030200Z
URL:https://laketravischamberfest.com/events/details/sushi-party-10089
END:VEVENT

END:VCALENDAR
