BEGIN:VCALENDAR
VERSION:2.0
PRODID:-//ChamberMaster//Event Calendar 2.0//EN
METHOD:PUBLISH
X-PUBLISHED-TTL:P3D
REFRESH-INTERVAL:P3D
CALSCALE:GREGORIAN
BEGIN:VEVENT
DTSTART:20200927T140000Z
DTEND:20200927T160000Z
X-MICROSOFT-CDO-ALLDAYEVENT:FALSE
SUMMARY:Susan G. Komen Austin MORE THAN PINK Walk
DESCRIPTION:The Susan G. Komen Austin MORE THAN PINK Walk  is going VIRTUAL. While the pandemic has cancelled many important moments in our lives\, our mission to end breast cancer isn't cancelled\, and neither is our Austin MORE THAN PINK Walk ! The MORE THAN PINK Walk serves two important purposes. It is Komen's largest fundraiser to fuel breast cancer research and patient support efforts\, and it provides those impacted by breast cancer an opportunity to gather with a large compassionate community committed to making a difference in the fight against breast cancer.
X-ALT-DESC;FMTTYPE=text/html:The Susan G. Komen Austin MORE THAN PINK Walk&reg\; is going VIRTUAL. While the pandemic has cancelled many important moments in our lives\, our mission to end breast cancer isn&rsquo\;t cancelled\, and neither is our Austin MORE THAN PINK Walk&reg\;! The MORE THAN PINK Walk serves two important purposes. It is Komen&rsquo\;s largest fundraiser to fuel breast cancer research and patient support efforts\, and it provides those impacted by breast cancer an opportunity to gather with a large compassionate community committed to making a difference in the fight against breast cancer.
LOCATION:Virtual event
UID:e.2123.10142
SEQUENCE:3
DTSTAMP:20260423T121916Z
URL:https://laketravischamberfest.com/events/details/susan-g-komen-austin-more-than-pink-walk-10142
END:VEVENT

END:VCALENDAR
