BEGIN:VCALENDAR
VERSION:2.0
PRODID:-//ChamberMaster//Event Calendar 2.0//EN
METHOD:PUBLISH
X-PUBLISHED-TTL:P3D
REFRESH-INTERVAL:P3D
CALSCALE:GREGORIAN
BEGIN:VEVENT
DTSTART:20200610T003000Z
DTEND:20200610T020000Z
X-MICROSOFT-CDO-ALLDAYEVENT:FALSE
SUMMARY:Sunset Flow Yoga & Juice Social
DESCRIPTION:JuiceLand & Bodhi Yoga are teaming up to give you the ultimate sunset yoga experience! \n\n\n\nPlease join us every second Tuesday of the month for a juice social at 7:30 PM followed by flow yoga for all levels at 8 PM. This event is FREE to the public! Please bring your own yoga mat. Fresh cold-pressed juice will be provided :)
X-ALT-DESC;FMTTYPE=text/html:<span style="font-size:14px"><strong>JuiceLand &amp\; Bodhi Yoga are teaming up to give you the ultimate sunset yoga experience!&nbsp\;</strong></span><br />\n<br />\nPlease join us every second Tuesday of the month for a juice social at 7:30 PM followed by flow yoga for all levels at 8 PM. This event is<strong> FREE</strong> to the public! Please bring your own yoga mat. Fresh cold-pressed juice will be provided :)&nbsp\;
LOCATION:Outside of JuiceLand Lakeway & Bodhi Yoga in the green space next to Cho.
UID:e.2123.9337
SEQUENCE:3
DTSTAMP:20260423T073139Z
URL:https://laketravischamberfest.com/events/details/sunset-flow-yoga-juice-social-06-09-2020-9337
END:VEVENT

END:VCALENDAR
