BEGIN:VCALENDAR
VERSION:2.0
PRODID:-//ChamberMaster//Event Calendar 2.0//EN
METHOD:PUBLISH
X-PUBLISHED-TTL:P3D
REFRESH-INTERVAL:P3D
CALSCALE:GREGORIAN
BEGIN:VEVENT
DTSTART:20220723T000000Z
DTEND:20220814T210000Z
X-MICROSOFT-CDO-ALLDAYEVENT:FALSE
SUMMARY:Sunflower the Musical starring Guy Forsyth
DESCRIPTION:The story of Amalie and Vincent van Gogh. Starring Guy Forsyth as Vincent! Sunflower is an original musical that tells the story of Amalie\, a shy and sensitive 6th grader\, who magically travels through the painting Cafe Terrace at Night and meets the 19th century artist Vincent Van Gogh (1853-1890) at the cafe. Sunflower is a musical about facing bullying\, about loneliness and belonging. It is about the power of art to inspire and lift up\, about finding the courage to be oneself\, and the importance of kindness and inclusion. July 22   August 14\, 2022 Friday & Saturday at 7pm and Sundays at 2pm!
X-ALT-DESC;FMTTYPE=text/html:The story of Amalie and Vincent van Gogh. Starring Guy Forsyth as Vincent! Sunflower is an original musical that tells the story of Amalie\, a shy and sensitive 6th grader\, who magically travels through the painting Cafe Terrace at Night and meets the 19th century artist Vincent Van Gogh (1853-1890) at the cafe. Sunflower is a musical about facing bullying\, about loneliness and belonging. It is about the power of art to inspire and lift up\, about finding the courage to be oneself\, and the importance of kindness and inclusion. July 22 &ndash\; August 14\, 2022 Friday &amp\; Saturday at 7pm and Sundays at 2pm!
LOCATION:Austin Scottish Rite Theater\, 207 West 18th St.\, Austin\, TX 78701
UID:e.2123.11134
SEQUENCE:3
DTSTAMP:20260423T204432Z
URL:https://laketravischamberfest.com/events/details/sunflower-the-musical-starring-guy-forsyth-11134
END:VEVENT

END:VCALENDAR
