BEGIN:VCALENDAR
VERSION:2.0
PRODID:-//ChamberMaster//Event Calendar 2.0//EN
METHOD:PUBLISH
X-PUBLISHED-TTL:P3D
REFRESH-INTERVAL:P3D
CALSCALE:GREGORIAN
BEGIN:VEVENT
DTSTART;VALUE=DATE:20220313
DTEND;VALUE=DATE:20220314
TRANSP:TRANSPARENT
X-MICROSOFT-CDO-ALLDAYEVENT:TRUE
SUMMARY:Sun Outdoors Chili Cookoff - Lake Travis Chamber members will be the Judge!
DESCRIPTION:Come put your taste buds to the test! Join the Chili Cook Off at the Freddy Powers Pavilion. The winner will walk away with a trophy and entered into Planet Rock's Annual Chili Competition!
X-ALT-DESC;FMTTYPE=text/html:Come put your taste buds to the test! Join the Chili Cook Off at the Freddy Powers Pavilion. The winner will walk away with a trophy and entered into Planet Rock&#39\;s Annual Chili Competition!&nbsp\;
LOCATION:5220 Hudson Bend Rd La Hacienda RV Resort & Cottages Austin\, TX 78734
UID:e.2123.11082
SEQUENCE:3
DTSTAMP:20260424T020343Z
URL:https://laketravischamberfest.com/events/details/sun-outdoors-chili-cookoff-lake-travis-chamber-members-will-be-the-judge-11082
END:VEVENT

END:VCALENDAR
