BEGIN:VCALENDAR
VERSION:2.0
PRODID:-//ChamberMaster//Event Calendar 2.0//EN
METHOD:PUBLISH
X-PUBLISHED-TTL:P3D
REFRESH-INTERVAL:P3D
CALSCALE:GREGORIAN
BEGIN:VEVENT
DTSTART:20200615T170000Z
DTEND:20200615T190000Z
X-MICROSOFT-CDO-ALLDAYEVENT:FALSE
SUMMARY:Summer Volleyball Clinic
DESCRIPTION:Join our first Volleyball Clinic of summer 2020! This clinic will cover all volleyball positions and skills\, targeted to 5th-7th graders.
X-ALT-DESC;FMTTYPE=text/html:Join our first Volleyball Clinic of summer 2020! This clinic will cover all volleyball positions and skills\, targeted to 5th-7th graders.
LOCATION:LT United Methodist Church
UID:e.2123.10119
SEQUENCE:3
DTSTAMP:20260423T085036Z
URL:https://laketravischamberfest.com/events/details/summer-volleyball-clinic-10119
END:VEVENT

END:VCALENDAR
