BEGIN:VCALENDAR
VERSION:2.0
PRODID:-//ChamberMaster//Event Calendar 2.0//EN
METHOD:PUBLISH
X-PUBLISHED-TTL:P3D
REFRESH-INTERVAL:P3D
CALSCALE:GREGORIAN
BEGIN:VEVENT
DTSTART:20200601T140000Z
DTEND:20200603T170000Z
X-MICROSOFT-CDO-ALLDAYEVENT:FALSE
SUMMARY:Summer Tennis Clinic
DESCRIPTION:Join our first Tennis Clinic of the summer - this one for 3rd - 5th graders. This clinic is capped at 20 participants\, so sign up and reserve your spot today.
X-ALT-DESC;FMTTYPE=text/html:Join our first Tennis Clinic of the summer - this one for 3rd - 5th graders. This clinic is capped at 20 participants\, so sign up and reserve your spot today.
LOCATION:4532 Lago Viento
UID:e.2123.10117
SEQUENCE:3
DTSTAMP:20260423T072818Z
URL:https://laketravischamberfest.com/events/details/summer-tennis-clinic-10117
END:VEVENT

END:VCALENDAR
