BEGIN:VCALENDAR
VERSION:2.0
PRODID:-//ChamberMaster//Event Calendar 2.0//EN
METHOD:PUBLISH
X-PUBLISHED-TTL:P3D
REFRESH-INTERVAL:P3D
CALSCALE:GREGORIAN
BEGIN:VEVENT
DTSTART:20180602T153000Z
DTEND:20180602T170000Z
X-MICROSOFT-CDO-ALLDAYEVENT:FALSE
SUMMARY:Summer Reading Program Kickoff Party
DESCRIPTION:Join us to celebrate the start of summer! Pick up your summer reading log\, pet an adorable animal at the Tiny Tails to You! petting zoo\, sing along with Joe McDermott\, take photos at our photo booth\, make crafts\, and enjoy refreshments provided by HEB!
X-ALT-DESC;FMTTYPE=text/html:Join us to celebrate the start of summer! Pick up your summer reading log\, pet an adorable animal at the Tiny Tails to You! petting zoo\, sing along with Joe McDermott\, take photos at our photo booth\, make crafts\, and enjoy refreshments provided by HEB!
LOCATION:Lake Travis Community Library 1938 Lohmans Crossing Austin\, Texas 78734
UID:e.2123.9659
SEQUENCE:3
DTSTAMP:20260421T192038Z
URL:https://laketravischamberfest.com/events/details/summer-reading-program-kickoff-party-9659
END:VEVENT

END:VCALENDAR
