BEGIN:VCALENDAR
VERSION:2.0
PRODID:-//ChamberMaster//Event Calendar 2.0//EN
METHOD:PUBLISH
X-PUBLISHED-TTL:P3D
REFRESH-INTERVAL:P3D
CALSCALE:GREGORIAN
BEGIN:VEVENT
DTSTART:20180727T210000Z
DTEND:20180727T223000Z
X-MICROSOFT-CDO-ALLDAYEVENT:FALSE
SUMMARY:Summer Reading Program Finale
DESCRIPTION:Summer Reading Program Finale - Friday\, July 27th from 4pm to 5:30pm - Enjoy refreshing snow cones from Kona Ice\, hear musician Mr. Will\, make crafts\, and listen for your name when we draw our summer reading program winners!
X-ALT-DESC;FMTTYPE=text/html:Summer Reading Program Finale - Friday\, July 27th from 4pm to 5:30pm - Enjoy refreshing snow cones from Kona Ice\, hear musician Mr. Will\, make crafts\, and listen for your name when we draw our summer reading program winners!
LOCATION:Lake Travis Community Library 1938 Lohmans Crossing Austin\, Texas 78734
UID:e.2123.9679
SEQUENCE:3
DTSTAMP:20260421T204140Z
URL:https://laketravischamberfest.com/events/details/summer-reading-program-finale-07-27-2018-9679
END:VEVENT

END:VCALENDAR
