BEGIN:VCALENDAR
VERSION:2.0
PRODID:-//ChamberMaster//Event Calendar 2.0//EN
METHOD:PUBLISH
X-PUBLISHED-TTL:P3D
REFRESH-INTERVAL:P3D
CALSCALE:GREGORIAN
BEGIN:VEVENT
DTSTART:20190715T140000Z
DTEND:20190721T170000Z
X-MICROSOFT-CDO-ALLDAYEVENT:FALSE
SUMMARY:Summer Music Camp
DESCRIPTION:"Are We There Yet?" Summer Music Camp- July 15-19\, 9 am- 2 pm Be a member of the cast of The Lakeway Church Children's Summer Music Camp! This year's performance will be "ARE WE THERE YET?" by Tom Long & Allen Pote This musical is about Moses leading the Israelites out of slavery in Egypt\, receiving the Ten Commandments and then going to the Promised Land. CAMP DATES: Monday thru Friday\, July 15-19\, 9:00 AM   2:00 PM PERFORMANCES: Sunday\, July 21 at 9:30 am & 11:00 am\, in the Sanctuary WHO CAN COME: Kids entering 2nd through 6th grades in Fall 2019 COST: $60 per camper. Scholarships are available. Contact Melissa Taylor (see below) WHAT'S INCLUDED: All materials\, costumes and snacks and lots of fun! WHAT TO BRING: Smiles\, singing voices\, and a sack lunch each day
X-ALT-DESC;FMTTYPE=text/html:&ldquo\;Are We There Yet?&rdquo\; Summer Music Camp- July 15-19\, 9 am- 2 pm Be a member of the cast of The Lakeway Church Children&rsquo\;s Summer Music Camp! This year&rsquo\;s performance will be &ldquo\;ARE WE THERE YET?&rdquo\; by Tom Long &amp\; Allen Pote This musical is about Moses leading the Israelites out of slavery in Egypt\, receiving the Ten Commandments and then going to the Promised Land. CAMP DATES: Monday thru Friday\, July 15-19\, 9:00 AM &ndash\; 2:00 PM PERFORMANCES: Sunday\, July 21 at 9:30 am &amp\; 11:00 am\, in the Sanctuary WHO CAN COME: Kids entering 2nd through 6th grades in Fall 2019 COST: $60 per camper. Scholarships are available. Contact Melissa Taylor (see below) WHAT&rsquo\;S INCLUDED: All materials\, costumes and snacks&hellip\;and lots of fun! WHAT TO BRING: Smiles\, singing voices\, and a sack lunch each day
LOCATION:The Lakeway Church 2203 Lakeway Blvd. Lakeway\, TX 78734
UID:e.2123.9917
SEQUENCE:3
DTSTAMP:20260422T152628Z
URL:https://laketravischamberfest.com/events/details/summer-music-camp-9917
END:VEVENT

END:VCALENDAR
