BEGIN:VCALENDAR
VERSION:2.0
PRODID:-//ChamberMaster//Event Calendar 2.0//EN
METHOD:PUBLISH
X-PUBLISHED-TTL:P3D
REFRESH-INTERVAL:P3D
CALSCALE:GREGORIAN
BEGIN:VEVENT
DTSTART:20200615T210000Z
DTEND:20200615T223000Z
X-MICROSOFT-CDO-ALLDAYEVENT:FALSE
SUMMARY:Summer Lacrosse Clinic
DESCRIPTION:Summer Lacrosse Clinic for 5th-8th graders! June 15-17 - 4p-5:30p each day
X-ALT-DESC;FMTTYPE=text/html:Summer Lacrosse Clinic for 5th-8th graders! June 15-17 - 4p-5:30p each day
LOCATION:Dragon Park
UID:e.2123.10120
SEQUENCE:3
DTSTAMP:20260423T072727Z
URL:https://laketravischamberfest.com/events/details/summer-lacrosse-clinic-10120
END:VEVENT

END:VCALENDAR
