BEGIN:VCALENDAR
VERSION:2.0
PRODID:-//ChamberMaster//Event Calendar 2.0//EN
METHOD:PUBLISH
X-PUBLISHED-TTL:P3D
REFRESH-INTERVAL:P3D
CALSCALE:GREGORIAN
BEGIN:VEVENT
DTSTART:20200608T140000Z
DTEND:20200608T170000Z
X-MICROSOFT-CDO-ALLDAYEVENT:FALSE
SUMMARY:Summer Baseball Clinic
DESCRIPTION:Join our first Baseball Clinic of summer 2020! This clinic is open to K-8th grade and we will break up groups based on grade level. June 8th-10th\, 9:00am-12:00pm
X-ALT-DESC;FMTTYPE=text/html:Join our first Baseball Clinic of summer 2020! This clinic is open to K-8th grade and we will break up groups based on grade level. June 8th-10th\, 9:00am-12:00pm
LOCATION:Ranger Field
UID:e.2123.10118
SEQUENCE:3
DTSTAMP:20260423T072630Z
URL:https://laketravischamberfest.com/events/details/summer-baseball-clinic-10118
END:VEVENT

END:VCALENDAR
