BEGIN:VCALENDAR
VERSION:2.0
PRODID:-//ChamberMaster//Event Calendar 2.0//EN
METHOD:PUBLISH
X-PUBLISHED-TTL:P3D
REFRESH-INTERVAL:P3D
CALSCALE:GREGORIAN
BEGIN:VEVENT
DTSTART:20180324T180000Z
DTEND:20180325T193000Z
X-MICROSOFT-CDO-ALLDAYEVENT:FALSE
SUMMARY:Student Recitals
DESCRIPTION:Join the Sarofim School of Fine Arts' Music Department for a weekend of student recitals. Each year\, students have the opportunity to fully produce a solo recital.
X-ALT-DESC;FMTTYPE=text/html:Join the Sarofim School of Fine Arts&rsquo\; Music Department for a weekend of student recitals. Each year\, students have the opportunity to fully produce a solo recital.
LOCATION:Student Recitals will begin at 1:00pm on Saturday\, March 24th in the Alma Thomas Theater and at 1:00pm on Sunday\, March 25th in the Caldwell-Carvey Foyer.
UID:e.2123.9567
SEQUENCE:3
DTSTAMP:20260421T144245Z
URL:https://laketravischamberfest.com/events/details/student-recitals-9567
END:VEVENT

END:VCALENDAR
