BEGIN:VCALENDAR
VERSION:2.0
PRODID:-//ChamberMaster//Event Calendar 2.0//EN
METHOD:PUBLISH
X-PUBLISHED-TTL:P3D
REFRESH-INTERVAL:P3D
CALSCALE:GREGORIAN
BEGIN:VEVENT
DTSTART:20180414T180000Z
DTEND:20180416T010000Z
X-MICROSOFT-CDO-ALLDAYEVENT:FALSE
SUMMARY:Student Recitals
DESCRIPTION:Join the Sarofim School of Fine Arts' Music Department for a weekend of student recitals of varying instrumentalists and vocalists. Students have the opportunity to fully produce a solo recital each year. Student Recitals will begin at 1:00pm on Saturday\, April 14th and Sunday\, April 15th in the Alma Thomas Theater. The event is free and open to the public. For more information visit www.southwestern.edu/sarofim/
X-ALT-DESC;FMTTYPE=text/html:Join the Sarofim School of Fine Arts&rsquo\; Music Department for a weekend of student recitals of varying instrumentalists and vocalists. Students have the opportunity to fully produce a solo recital each year. Student Recitals will begin at 1:00pm on Saturday\, April 14th and Sunday\, April 15th in the Alma Thomas Theater. The event is free and open to the public. For more information visit www.southwestern.edu/sarofim/
LOCATION:The Southwestern University Sarofim School of Fine Arts' Alma Thomas Fine Arts Center
UID:e.2123.9585
SEQUENCE:3
DTSTAMP:20260421T161731Z
URL:https://laketravischamberfest.com/events/details/student-recitals-04-14-2018-9585
END:VEVENT

END:VCALENDAR
