BEGIN:VCALENDAR
VERSION:2.0
PRODID:-//ChamberMaster//Event Calendar 2.0//EN
METHOD:PUBLISH
X-PUBLISHED-TTL:P3D
REFRESH-INTERVAL:P3D
CALSCALE:GREGORIAN
BEGIN:VEVENT
DTSTART:20180126T163000Z
DTEND:20180126T173000Z
X-MICROSOFT-CDO-ALLDAYEVENT:FALSE
SUMMARY:Stress and Your Hormones
DESCRIPTION:Stress and Your Hormones - Friday\, January 26th at 10:30am - Learn how to cope with stress and use it to your advantage with Jennifer Blau of Steiner Wellness and Nutrition.
X-ALT-DESC;FMTTYPE=text/html:Stress and Your Hormones - Friday\, January 26th at 10:30am - Learn how to cope with stress and use it to your advantage with Jennifer Blau of Steiner Wellness and Nutrition.
LOCATION:Lake Travis Community Library 1938 Lohmans Crossing Austin\, Texas 78734
UID:e.2123.9533
SEQUENCE:3
DTSTAMP:20260421T113417Z
URL:https://laketravischamberfest.com/events/details/stress-and-your-hormones-9533
END:VEVENT

END:VCALENDAR
