BEGIN:VCALENDAR
VERSION:2.0
PRODID:-//ChamberMaster//Event Calendar 2.0//EN
METHOD:PUBLISH
X-PUBLISHED-TTL:P3D
REFRESH-INTERVAL:P3D
CALSCALE:GREGORIAN
BEGIN:VEVENT
DTSTART;VALUE=DATE:20201021
DTEND;VALUE=DATE:20210602
TRANSP:TRANSPARENT
X-MICROSOFT-CDO-ALLDAYEVENT:TRUE
SUMMARY:Streaming: Rosita y Conchita
DESCRIPTION:ROSITA Y CONCHITA: a D a de los Muertos Play in English and Spanish Back by popular demand\, now on streaming video! Two sisters try to reunite on the Day of the Dead. Along the way Rosita follows familar sights\, sounds and smells in her quest to find Conchita. Kids of all ages will love the rhyming bilingual dialogue\, music\, puppetry\, and images. Based on the award-winning children's book Rosita y Conchita by Erich Haeger and Eric Gonz lez. En esta adaptaci n imaginativa del libro infantil Rosita y Conchita de Erich Haeger y Eric Gonz lez\, dos hermanas tratan de reunirse en el d a de los muertos. A lo largo del camino Rosita se sigue perdiendo\, pero milagrosamente encuentra su camino a Conchita a trav s de sonidos y im genes familiares. Todas las edades se disfrutar n del di logo biling e y las im genes impresionantes. Running time: 33 minutes
X-ALT-DESC;FMTTYPE=text/html:ROSITA Y CONCHITA: a D&iacute\;a de los Muertos Play in English and Spanish Back by popular demand\, now on streaming video! Two sisters try to reunite on the Day of the Dead. Along the way Rosita follows familar sights\, sounds and smells in her quest to find Conchita. Kids of all ages will love the rhyming bilingual dialogue\, music\, puppetry\, and images. Based on the award-winning children&rsquo\;s book Rosita y Conchita by Erich Haeger and Eric Gonz&aacute\;lez. En esta adaptaci&oacute\;n imaginativa del libro infantil Rosita y Conchita de Erich Haeger y Eric Gonz&aacute\;lez\, dos hermanas tratan de reunirse en el d&iacute\;a de los muertos. A lo largo del camino Rosita se sigue perdiendo\, pero milagrosamente encuentra su camino a Conchita a trav&eacute\;s de sonidos y im&aacute\;genes familiares. Todas las edades se disfrutar&aacute\;n del di&aacute\;logo biling&uuml\;e y las im&aacute\;genes impresionantes. Running time: 33 minutes
LOCATION:Online - Austin Scottish Rite Theater
UID:e.2123.10168
SEQUENCE:3
DTSTAMP:20260423T134235Z
URL:https://laketravischamberfest.com/events/details/streaming-rosita-y-conchita-10168
END:VEVENT

END:VCALENDAR
