BEGIN:VCALENDAR
VERSION:2.0
PRODID:-//ChamberMaster//Event Calendar 2.0//EN
METHOD:PUBLISH
X-PUBLISHED-TTL:P3D
REFRESH-INTERVAL:P3D
CALSCALE:GREGORIAN
BEGIN:VEVENT
DTSTART:20180301T173000Z
DTEND:20180301T193000Z
X-MICROSOFT-CDO-ALLDAYEVENT:FALSE
SUMMARY:Spring Luncheon with Belmont Village Senior Living CEO
DESCRIPTION:Join us for a luncheon with Belmont Village Founder and CEO Patricia Will. Meet our team and learn more about Belmont Village and the programs and services available at our senior living community opening in Lakeway this summer. Seating is limited. RSVP to 512-402-1800.
X-ALT-DESC;FMTTYPE=text/html:Join us for a luncheon with Belmont Village Founder and CEO Patricia Will. Meet our team and learn more about Belmont Village and the programs and services available at our senior living community opening in Lakeway this summer. Seating is limited. RSVP to 512-402-1800.
LOCATION:The Hills of Lakeway Country Club 26 Club Estates Parkway Lakeway\, Texas 78738
UID:e.2123.9575
SEQUENCE:3
DTSTAMP:20260421T162306Z
URL:https://laketravischamberfest.com/events/details/spring-luncheon-with-belmont-village-senior-living-ceo-9575
END:VEVENT

END:VCALENDAR
