BEGIN:VCALENDAR
VERSION:2.0
PRODID:-//ChamberMaster//Event Calendar 2.0//EN
METHOD:PUBLISH
X-PUBLISHED-TTL:P3D
REFRESH-INTERVAL:P3D
CALSCALE:GREGORIAN
BEGIN:VEVENT
DTSTART:20180202T160000Z
DTEND:20180203T220000Z
X-MICROSOFT-CDO-ALLDAYEVENT:FALSE
SUMMARY:Spring Blossoms Quilt Show
DESCRIPTION:Area quilters using their talents to help the community and keep the quilting tradition alive.
X-ALT-DESC;FMTTYPE=text/html:Area quilters using their talents to help the community and keep the quilting tradition alive.
LOCATION:Fireman's Training Center 1101 Hwy 290 W Brenham\, Texas 77833
UID:e.2123.9487
SEQUENCE:3
DTSTAMP:20260421T131657Z
URL:https://laketravischamberfest.com/events/details/spring-blossoms-quilt-show-9487
END:VEVENT

END:VCALENDAR
