BEGIN:VCALENDAR
VERSION:2.0
PRODID:-//ChamberMaster//Event Calendar 2.0//EN
METHOD:PUBLISH
X-PUBLISHED-TTL:P3D
REFRESH-INTERVAL:P3D
CALSCALE:GREGORIAN
BEGIN:VEVENT
DTSTART:20180408T003000Z
DTEND:20180408T020000Z
X-MICROSOFT-CDO-ALLDAYEVENT:FALSE
SUMMARY:Speed Dating Tonight!
DESCRIPTION:The Southwestern University Opera Theatre Presents "Speed Dating Tonight!" With music and words by Michael Ching and based on a concept by Dean Anthony\, this production takes a comic operatic look at a very current phenomenon unfolding in a caf /bar. As each dater sings\, we get glimpses into their very personal hopes\, dreams\, anxieties and desires. Join the Music Department for this entertaining evening of performance in the Alma Thomas Theater that may bring back some of your own dating ups and downs. There will be a performance on April 7th at 7:30pm and a matinee on April 8th at 3:00pm. The production contains no adult language\, and it is free and open to the public. Please contact the Mathers Box Office at (512)863-1378 if you have any questions. The box office is open Monday-Friday from 1:00-5:00pm. For more information visit www.southwestern.edu/sarofim/
X-ALT-DESC;FMTTYPE=text/html:The Southwestern University Opera Theatre Presents &quot\;Speed Dating Tonight!&quot\; With music and words by Michael Ching and based on a concept by Dean Anthony\, this production takes a comic operatic look at a very current phenomenon unfolding in a caf&eacute\;/bar. As each dater sings\, we get glimpses into their very personal hopes\, dreams\, anxieties and desires. Join the Music Department for this entertaining evening of performance in the Alma Thomas Theater that may bring back some of your own dating ups and downs. There will be a performance on April 7th at 7:30pm and a matinee on April 8th at 3:00pm. The production contains no adult language\, and it is free and open to the public. Please contact the Mathers Box Office at (512)863-1378 if you have any questions. The box office is open Monday-Friday from 1:00-5:00pm. For more information visit www.southwestern.edu/sarofim/
LOCATION:Southwestern University's Alma Thomas Fine Arts Center 1001 E. University Avenue\, Georgetown\, TX 78626
UID:e.2123.9599
SEQUENCE:3
DTSTAMP:20260421T160710Z
URL:https://laketravischamberfest.com/events/details/speed-dating-tonight-9599
END:VEVENT

END:VCALENDAR
