BEGIN:VCALENDAR
VERSION:2.0
PRODID:-//ChamberMaster//Event Calendar 2.0//EN
METHOD:PUBLISH
X-PUBLISHED-TTL:P3D
REFRESH-INTERVAL:P3D
CALSCALE:GREGORIAN
BEGIN:VEVENT
DTSTART:20181104T183000Z
DTEND:20181105T000000Z
X-MICROSOFT-CDO-ALLDAYEVENT:FALSE
SUMMARY:Special Argentine Asado at El Gaucho Winery
DESCRIPTION:Get out of the house this weekend\, and enjoy the cooler temps at our Sunday Asado! Our anticipated Argentine Asado will be held every Sunday in November! Our doors open at noon and asado service begins at 12:30 pm\, and we'll have a nice\, big tent for outdoor seating. This Argentine style BBQ always has a great crowd of guests enjoying the delicious food\, our excellent wines from Argentina\, live music and the relaxing ambiance of our winery. Everyone is invited to dance and this event is family friendly!
X-ALT-DESC;FMTTYPE=text/html:Get out of the house this weekend\, and enjoy the cooler temps at our Sunday Asado! Our anticipated Argentine Asado will be held every Sunday in November! Our doors open at noon and asado service begins at 12:30 pm\, and we&#39\;ll have a nice\, big tent for outdoor seating. This Argentine style BBQ always has a great crowd of guests enjoying the delicious food\, our excellent wines from Argentina\, live music and the relaxing ambiance of our winery. Everyone is invited to dance and this event is family friendly!
LOCATION:21301 Kathy Ln\, Spicewood\, TX 78669
UID:e.2123.9756
SEQUENCE:3
DTSTAMP:20260422T024658Z
URL:https://laketravischamberfest.com/events/details/special-argentine-asado-at-el-gaucho-winery-9756
END:VEVENT

END:VCALENDAR
