BEGIN:VCALENDAR
VERSION:2.0
PRODID:-//ChamberMaster//Event Calendar 2.0//EN
METHOD:PUBLISH
X-PUBLISHED-TTL:P3D
REFRESH-INTERVAL:P3D
CALSCALE:GREGORIAN
BEGIN:VEVENT
DTSTART:20171203T013000Z
DTEND:20171203T030000Z
X-MICROSOFT-CDO-ALLDAYEVENT:FALSE
SUMMARY:Southwestern University Wind Ensemble and Orchestra
DESCRIPTION:The Sarofim School of Fine Arts' Music Department is pleased to present the Southwestern University Wind Ensemble and Orchestra in concert under the direction of Dr. Lois Ferrari.
X-ALT-DESC;FMTTYPE=text/html:The Sarofim School of Fine Arts&rsquo\; Music Department is pleased to present the Southwestern University Wind Ensemble and Orchestra in concert under the direction of Dr. Lois Ferrari.
LOCATION:Alma Thomas Theater\, Southwestern University's Sarofim School of Fine Arts\, E. Rutersville Rd\, Georgetown\, TX\, 78626
UID:e.2123.9491
SEQUENCE:3
DTSTAMP:20260421T100251Z
URL:https://laketravischamberfest.com/events/details/southwestern-university-wind-ensemble-and-orchestra-9491
END:VEVENT

END:VCALENDAR
