BEGIN:VCALENDAR
VERSION:2.0
PRODID:-//ChamberMaster//Event Calendar 2.0//EN
METHOD:PUBLISH
X-PUBLISHED-TTL:P3D
REFRESH-INTERVAL:P3D
CALSCALE:GREGORIAN
BEGIN:VEVENT
DTSTART:20180502T173000Z
DTEND:20180502T183000Z
X-MICROSOFT-CDO-ALLDAYEVENT:FALSE
SUMMARY:Southwestern University Singers Concert
DESCRIPTION:The Sarofim School of Fine Arts' Music Department is pleased to present the Southwestern University Singers in concert under the direction of Dr. Kenny Sheppard. For more information visit www.southwestern.edu/sarofim/
X-ALT-DESC;FMTTYPE=text/html:The Sarofim School of Fine Arts&rsquo\; Music Department is pleased to present the Southwestern University Singers in concert under the direction of Dr. Kenny Sheppard. For more information visit www.southwestern.edu/sarofim/
LOCATION:Alma Thomas Fine Arts Center's Caldwell-Carvey Foyer 1001 E. University Avenue\, Georgetown\, TX 78626
UID:e.2123.9598
SEQUENCE:3
DTSTAMP:20260421T175934Z
URL:https://laketravischamberfest.com/events/details/southwestern-university-singers-concert-9598
END:VEVENT

END:VCALENDAR
