BEGIN:VCALENDAR
VERSION:2.0
PRODID:-//ChamberMaster//Event Calendar 2.0//EN
METHOD:PUBLISH
X-PUBLISHED-TTL:P3D
REFRESH-INTERVAL:P3D
CALSCALE:GREGORIAN
BEGIN:VEVENT
DTSTART:20171130T013000Z
DTEND:20171130T033000Z
X-MICROSOFT-CDO-ALLDAYEVENT:FALSE
SUMMARY:Southwestern University Percussion Ensemble
DESCRIPTION:Sarofim School of Fine Arts' Music Department is pleased to present the Southwestern University Percussion Ensemble in concert.
X-ALT-DESC;FMTTYPE=text/html:Sarofim School of Fine Arts&rsquo\; Music Department is pleased to present the Southwestern University Percussion Ensemble in concert.
LOCATION:Caldwell-Carvey Foyer\, Southwestern University's Sarofim School of Fine Arts
UID:e.2123.9481
SEQUENCE:3
DTSTAMP:20260421T082800Z
URL:https://laketravischamberfest.com/events/details/southwestern-university-percussion-ensemble-9481
END:VEVENT

END:VCALENDAR
