BEGIN:VCALENDAR
VERSION:2.0
PRODID:-//ChamberMaster//Event Calendar 2.0//EN
METHOD:PUBLISH
X-PUBLISHED-TTL:P3D
REFRESH-INTERVAL:P3D
CALSCALE:GREGORIAN
BEGIN:VEVENT
DTSTART:20180426T003000Z
DTEND:20180426T013000Z
X-MICROSOFT-CDO-ALLDAYEVENT:FALSE
SUMMARY:Southwestern University Percussion Ensemble
DESCRIPTION:The Sarofim School of Fine Arts' Music Department is pleased to present the Southwestern University Percussion Ensemble in concert.
X-ALT-DESC;FMTTYPE=text/html:The Sarofim School of Fine Arts&rsquo\; Music Department is pleased to present the Southwestern University Percussion Ensemble in concert.
LOCATION:Southwestern University's Caldwell-Carvey Foyer\, E. Rutersville Rd\, Georgetown\, TX\, 78626
UID:e.2123.9612
SEQUENCE:3
DTSTAMP:20260421T161921Z
URL:https://laketravischamberfest.com/events/details/southwestern-university-percussion-ensemble-04-25-2018-9612
END:VEVENT

END:VCALENDAR
