BEGIN:VCALENDAR
VERSION:2.0
PRODID:-//ChamberMaster//Event Calendar 2.0//EN
METHOD:PUBLISH
X-PUBLISHED-TTL:P3D
REFRESH-INTERVAL:P3D
CALSCALE:GREGORIAN
BEGIN:VEVENT
DTSTART:20180429T003000Z
DTEND:20180429T020000Z
X-MICROSOFT-CDO-ALLDAYEVENT:FALSE
SUMMARY:Southwestern University Chorale Concert
DESCRIPTION:The Sarofim School of Fine Arts' Music Department is pleased to present the Southwestern University Chorale in concert under the direction of Dr. Kenny Sheppard. The performance will include ??W. A. Mozart's ?"Requiem" ?and "J.S. Bach's Cantata No. 4 Christ lag in Todesbanden." ?The concert is free and open to the public. For more information visit www.southwestern.edu/sarofim/
X-ALT-DESC;FMTTYPE=text/html:The Sarofim School of Fine Arts&rsquo\; Music Department is pleased to present the Southwestern University Chorale in concert under the direction of Dr. Kenny Sheppard. The performance will include&nbsp\;??W. A. Mozart&rsquo\;s&nbsp\;?&quot\;Requiem&quot\;&nbsp\;?and &quot\;J.S. Bach&rsquo\;s&nbsp\;Cantata No. 4&nbsp\;Christ lag in Todesbanden.&quot\;&nbsp\;?The concert is free and open to the public. For more information visit www.southwestern.edu/sarofim/
LOCATION:Southwestern University's Alma Thomas Fine Arts Center
UID:e.2123.9594
SEQUENCE:3
DTSTAMP:20260421T162003Z
URL:https://laketravischamberfest.com/events/details/southwestern-university-chorale-concert-9594
END:VEVENT

END:VCALENDAR
