BEGIN:VCALENDAR
VERSION:2.0
PRODID:-//ChamberMaster//Event Calendar 2.0//EN
METHOD:PUBLISH
X-PUBLISHED-TTL:P3D
REFRESH-INTERVAL:P3D
CALSCALE:GREGORIAN
BEGIN:VEVENT
DTSTART:20171112T013000Z
DTEND:20171112T033000Z
X-MICROSOFT-CDO-ALLDAYEVENT:FALSE
SUMMARY:Southwestern University Chorale
DESCRIPTION:Sarofim School of Fine Arts' Music Department is pleased to present the Southwestern University Chorale in concert under the direction of Dr. Kenny Sheppard.
X-ALT-DESC;FMTTYPE=text/html:Sarofim School of Fine Arts&rsquo\; Music Department is pleased to present the Southwestern University Chorale in concert under the direction of Dr. Kenny Sheppard.
LOCATION:Alma Thomas Theater\, Southwestern University's Sarofim School of Fine Arts
UID:e.2123.9477
SEQUENCE:3
DTSTAMP:20260421T081020Z
URL:https://laketravischamberfest.com/events/details/southwestern-university-chorale-9477
END:VEVENT

END:VCALENDAR
